BEGIN:VCALENDAR
VERSION:2.0
PRODID:-//ASPC GYMSPORT - ECPv6.15.20//NONSGML v1.0//EN
CALSCALE:GREGORIAN
METHOD:PUBLISH
X-WR-CALNAME:ASPC GYMSPORT
X-ORIGINAL-URL:https://aspcgymsport.com/wp
X-WR-CALDESC:Évènements pour ASPC GYMSPORT
REFRESH-INTERVAL;VALUE=DURATION:PT1H
X-Robots-Tag:noindex
X-PUBLISHED-TTL:PT1H
BEGIN:VTIMEZONE
TZID:Europe/Paris
BEGIN:DAYLIGHT
TZOFFSETFROM:+0100
TZOFFSETTO:+0200
TZNAME:CEST
DTSTART:20210328T010000
END:DAYLIGHT
BEGIN:STANDARD
TZOFFSETFROM:+0200
TZOFFSETTO:+0100
TZNAME:CET
DTSTART:20211031T010000
END:STANDARD
BEGIN:DAYLIGHT
TZOFFSETFROM:+0100
TZOFFSETTO:+0200
TZNAME:CEST
DTSTART:20220327T010000
END:DAYLIGHT
BEGIN:STANDARD
TZOFFSETFROM:+0200
TZOFFSETTO:+0100
TZNAME:CET
DTSTART:20221030T010000
END:STANDARD
BEGIN:DAYLIGHT
TZOFFSETFROM:+0100
TZOFFSETTO:+0200
TZNAME:CEST
DTSTART:20230326T010000
END:DAYLIGHT
BEGIN:STANDARD
TZOFFSETFROM:+0200
TZOFFSETTO:+0100
TZNAME:CET
DTSTART:20231029T010000
END:STANDARD
BEGIN:DAYLIGHT
TZOFFSETFROM:+0100
TZOFFSETTO:+0200
TZNAME:CEST
DTSTART:20240331T010000
END:DAYLIGHT
BEGIN:STANDARD
TZOFFSETFROM:+0200
TZOFFSETTO:+0100
TZNAME:CET
DTSTART:20241027T010000
END:STANDARD
END:VTIMEZONE
BEGIN:VEVENT
DTSTART;VALUE=DATE:20230422
DTEND;VALUE=DATE:20230424
DTSTAMP:20260423T121036
CREATED:20220930T155659Z
LAST-MODIFIED:20220930T155659Z
UID:10000123-1682121600-1682294399@aspcgymsport.com
SUMMARY:Finale Départementale : Equipe Fédérale A et B GMF/GAF & Coupe et Challenge de l'Anjou
DESCRIPTION:Finale Départementale : Equipe Fédérale A et B GAF/GAM \nCoupe de l’Anjou Clubs : GAF/GAM/GR/GAC \nChallenge de l’Anjou Individuels : GAF/GAM
URL:https://aspcgymsport.com/wp/event/finale-departementale-equipe-federale-a-et-b-gmf-gaf-coupe-et-challenge-de-lanjou/
CATEGORIES:Compétition Départementale
END:VEVENT
BEGIN:VEVENT
DTSTART;VALUE=DATE:20230403
DTEND;VALUE=DATE:20230404
DTSTAMP:20260423T121036
CREATED:20220930T154745Z
LAST-MODIFIED:20220930T154854Z
UID:10000122-1680480000-1680566399@aspcgymsport.com
SUMMARY:Championnat Départemental GR
DESCRIPTION:Chpt Départemental : Ensembles – Duos – Individuels GR
URL:https://aspcgymsport.com/wp/event/championnat-departemental-gr/
CATEGORIES:Compétition Départementale
END:VEVENT
BEGIN:VEVENT
DTSTART;TZID=Europe/Paris:20230226T140000
DTEND;TZID=Europe/Paris:20230226T170000
DTSTAMP:20260423T121036
CREATED:20220930T073806Z
LAST-MODIFIED:20220930T092030Z
UID:10000116-1677420000-1677430800@aspcgymsport.com
SUMMARY:Orientation GAC / AEROBIC
DESCRIPTION:Compétition GAC et Aérobic
URL:https://aspcgymsport.com/wp/event/orientation-gac-aerobic/
LOCATION:ASPC GYMSPORT\, Complexe Athletis\, LES PONTS DE CE\, 49130\, France
CATEGORIES:Compétition Régionale
END:VEVENT
BEGIN:VEVENT
DTSTART;VALUE=DATE:20230211
DTEND;VALUE=DATE:20230213
DTSTAMP:20260423T121036
CREATED:20220930T154613Z
LAST-MODIFIED:20220930T154613Z
UID:10000121-1676073600-1676246399@aspcgymsport.com
SUMMARY:Orientation Départementale par équipe : GAF Fed B
DESCRIPTION:Orientation Départementale par équipe : GAF Féd B (7-8/7-9/10-11) \nChampionnat Départemental Individuel : GAF : Féd A (10-11/12-13)
URL:https://aspcgymsport.com/wp/event/orientation-departementale-par-equipe-gaf-fed-b/
CATEGORIES:Compétition Départementale
END:VEVENT
BEGIN:VEVENT
DTSTART;VALUE=DATE:20230204
DTEND;VALUE=DATE:20230206
DTSTAMP:20260423T121036
CREATED:20220930T154354Z
LAST-MODIFIED:20220930T154354Z
UID:10000120-1675468800-1675641599@aspcgymsport.com
SUMMARY:Chpt Départemental Équipes GAM GAF 2023
DESCRIPTION:2 compétitions : \nChampionnat Départemental par équipes :GAF-GAM : Perf (Nat et Rég) \nOrientation Départementale par équipes : GAF : Féd A10+ et GAM : Féd A et B
URL:https://aspcgymsport.com/wp/event/chpt-departemental-equipes-gam-gaf-2023/
CATEGORIES:Compétition Départementale
END:VEVENT
BEGIN:VEVENT
DTSTART;VALUE=DATE:20230121
DTEND;VALUE=DATE:20230123
DTSTAMP:20260423T121036
CREATED:20220930T085929Z
LAST-MODIFIED:20220930T091754Z
UID:10000118-1674259200-1674431999@aspcgymsport.com
SUMMARY:Chpt Départemental Individuel GAF/GAM
DESCRIPTION:Catégories : \n\nGAF : Perf (Nat A-B et Rég) et Féd A (14-15/16-17/18+)\nGAM : Perf (Nat A-B et Rég) et Féd A
URL:https://aspcgymsport.com/wp/event/chpt-departemental-individuel-gaf-gam-2/
LOCATION:Saumur Loire Alliance Gymnique\, 83 Rue de la Prévoté\, Saumur\, 49400\, France
CATEGORIES:Compétition Départementale
END:VEVENT
BEGIN:VEVENT
DTSTART;TZID=Europe/Paris:20220930T175502
DTEND;TZID=Europe/Paris:20220930T175502
DTSTAMP:20260423T121036
CREATED:20220929T180641Z
LAST-MODIFIED:20220930T155502Z
UID:10000114-1664560502-1664560502@aspcgymsport.com
SUMMARY:Faites de la GYM
DESCRIPTION:Organisé par le Comité départemental\, et accueilli à Athlétis par le Club ASPC GYMSPORT.
URL:https://aspcgymsport.com/wp/event/faites-de-la-gym-2023/
LOCATION:ASPC GYMSPORT\, Complexe Athletis\, LES PONTS DE CE\, 49130\, France
CATEGORIES:Evénements Club,Evénements FFGYM
END:VEVENT
BEGIN:VEVENT
DTSTART;TZID=Europe/Paris:20220930T080000
DTEND;TZID=Europe/Paris:20220930T170000
DTSTAMP:20260423T121036
CREATED:20220930T085507Z
LAST-MODIFIED:20220930T091836Z
UID:10000117-1664524800-1664557200@aspcgymsport.com
SUMMARY:Chpt Départemental 2022 GR
DESCRIPTION:Niveau : Individuelle TF et Nat A/B/C
URL:https://aspcgymsport.com/wp/event/chpt-departemental-2022-gr/
LOCATION:Angers Gymnastique\, Complexe Sportif Jean Vilar\, Rue Henri Bergson\, Angers\, 49000\, France
CATEGORIES:Compétition Départementale
END:VEVENT
END:VCALENDAR